BEGIN:VCALENDAR
VERSION:2.0
PRODID:-//wp-events-plugin.com//7.2.3.1//EN
TZID:America/Los_Angeles
X-WR-TIMEZONE:America/Los_Angeles
BEGIN:VEVENT
UID:3489@experiencetacoma.com
DTSTART;TZID=America/Los_Angeles:20171212T190000
DTEND;TZID=America/Los_Angeles:20171212T210000
DTSTAMP:20171204T202013Z
URL:https://experiencetacoma.com/events/classical-tuesdays-wine-song-benef
 it/
SUMMARY:Classical Tuesdays: Wine &amp\; Song Benefit
DESCRIPTION:Wine &amp\; Song supports the series of 5 free musical events p
 resented by Classical Tuesdays in Old Town. This is a festive and all ages
  gathering at the lovely Connelly Law Offices. The featured musicians this
  year are the fabulous duo Soprello: soprano Allison Pohl and cellist Alis
 tair MacRae. Following the music we'll share finger foods and wines and ma
 y even break out into some holiday singing!
ATTACH;FMTTYPE=image/jpeg:https://experiencetacoma.com/wp-content/uploads/
 soprello-2.jpg
CATEGORIES:Family Friendly
LOCATION:Connelly Law Offices\, 2301 N 30th Street\, Tacoma\, WA\, 98403\, 
 Puget Sound\, United States
X-APPLE-STRUCTURED-LOCATION;VALUE=URI;X-ADDRESS=2301 N 30th Street\, Tacoma
 \, WA\, 98403\, Puget Sound\, United States;X-APPLE-RADIUS=100;X-TITLE=Con
 nelly Law Offices:geo:0,0
END:VEVENT
BEGIN:VTIMEZONE
TZID:America/Los_Angeles
X-LIC-LOCATION:America/Los_Angeles
BEGIN:STANDARD
DTSTART:20171105T010000
TZOFFSETFROM:-0700
TZOFFSETTO:-0800
TZNAME:PST
END:STANDARD
END:VTIMEZONE
END:VCALENDAR