BEGIN:VCALENDAR
VERSION:2.0
PRODID:-//wp-events-plugin.com//7.2.3.1//EN
TZID:America/Los_Angeles
X-WR-TIMEZONE:America/Los_Angeles
BEGIN:VEVENT
UID:3286@experiencetacoma.com
DTSTART;TZID=America/Los_Angeles:20170812T190000
DTEND;TZID=America/Los_Angeles:20170812T220000
DTSTAMP:20170726T194325Z
URL:https://experiencetacoma.com/events/cinema-sound-moana/
SUMMARY:Cinema on the Sound: Moana
DESCRIPTION:\n 	\n\n\n\n  \n\n\n\n\n\n\nChambers Creek Regional Park\n(Map)
 \n\nGrab a blanket and come out not once but twice in the summer of 2017 f
 or our FREE family event at Chambers Creek Regional Park in University Pla
 ce! Bring the family and we'll supply the stars.\n\nMovies begin at dusk. 
  Pre-movie entertainment from 7-8:30 p.m. includes Bricks 4 Kidz and Wigg
 le Works. Food truck vendors with reasonable prices will also be on site.\
 n\n\n\n
CATEGORIES:Family Friendly,Free
LOCATION:Chambers Bay Central Meadow\, 6320 Grandview Drive W\, University 
 Place\, United States
X-APPLE-STRUCTURED-LOCATION;VALUE=URI;X-ADDRESS=6320 Grandview Drive W\, Un
 iversity Place\, United States;X-APPLE-RADIUS=100;X-TITLE=Chambers Bay Cen
 tral Meadow:geo:0,0
END:VEVENT
BEGIN:VTIMEZONE
TZID:America/Los_Angeles
X-LIC-LOCATION:America/Los_Angeles
BEGIN:DAYLIGHT
DTSTART:20170312T030000
TZOFFSETFROM:-0800
TZOFFSETTO:-0700
TZNAME:PDT
END:DAYLIGHT
END:VTIMEZONE
END:VCALENDAR