BEGIN:VCALENDAR
VERSION:2.0
PRODID:-//wp-events-plugin.com//7.2.3.1//EN
TZID:America/Los_Angeles
X-WR-TIMEZONE:America/Los_Angeles
BEGIN:VEVENT
UID:2424@experiencetacoma.com
DTSTART;TZID=America/Los_Angeles:20160927T103000
DTEND;TZID=America/Los_Angeles:20160927T124500
DTSTAMP:20160826T053827Z
URL:https://experiencetacoma.com/events/better-futures-luncheon-2016/
SUMMARY:Better Futures Luncheon 2016
DESCRIPTION:Come be part of something big! The Hilltop Artists annual Bett
 er Futures Luncheon is an opportunity for you to be a force for positive c
 hange. Come hear students share how Hilltop Artists has impacted their liv
 es and learn how your support makes a difference.\n\nThanks to dedicated c
 ommunity members like you\, we offer tuition-free\, experiential arts lear
 ning in two dedicated hot shops to create powerful change and long-term ou
 tcomes in the lives of our youth and their families. Through our programs\
 , partnerships\, and youth advocacy\, Hilltop Artists works with students 
 to address barriers they face in achieving social and academic success.\n\
 nCheck-in and silent auction begin at 10:30am. Luncheon program starts at 
 11:30am.
ATTACH;FMTTYPE=image/jpeg:https://experiencetacoma.com/wp-content/uploads/
 IMG_8141.jpg
LOCATION:Hotel Murano Bicentennial pavillion\, 1320 Broadway \, Tacoma\, WA
 \, 98406\, United States
GEO:47.250469;-122.44000299999999
X-APPLE-STRUCTURED-LOCATION;VALUE=URI;X-ADDRESS=1320 Broadway \, Tacoma\, W
 A\, 98406\, United States;X-APPLE-RADIUS=100;X-TITLE=Hotel Murano Bicenten
 nial pavillion:geo:47.250469,-122.44000299999999
END:VEVENT
BEGIN:VTIMEZONE
TZID:America/Los_Angeles
X-LIC-LOCATION:America/Los_Angeles
BEGIN:DAYLIGHT
DTSTART:20160313T030000
TZOFFSETFROM:-0800
TZOFFSETTO:-0700
TZNAME:PDT
END:DAYLIGHT
END:VTIMEZONE
END:VCALENDAR