BEGIN:VCALENDAR
VERSION:2.0
PRODID:-//wp-events-plugin.com//7.2.3.1//EN
TZID:America/Los_Angeles
X-WR-TIMEZONE:America/Los_Angeles
BEGIN:VEVENT
UID:3388@experiencetacoma.com
DTSTART;TZID=America/Los_Angeles:20170921T170000
DTEND;TZID=America/Los_Angeles:20170921T210000
DTSTAMP:20170922T210231Z
URL:https://experiencetacoma.com/events/art-wine-5-year-celebration/
SUMMARY:Art & Wine + 5 Year Celebration
DESCRIPTION:Not only is it 3rd Thursday Art &amp\; Wine Night but Creative 
 Forces is celebrating 5 years at Hotel Murano! Come visit with local artis
 ts in the lobby and shop their wares\, as well as inside Creative Forces. 
 Enjoy 1/2 price wines and even better is we are celebrating 5 years! Come 
 join in the festivities!\n\nNothing better than art\, wine and celebration
 !!!!
ATTACH;FMTTYPE=image/jpeg:https://experiencetacoma.com/wp-content/uploads/
 Winenightseptember.jpg
CATEGORIES:Free
LOCATION:Creative Forces  Hotel Murano\, 1320 Broadway\, Tacoma\, WA\, 9842
 2\, United States
X-APPLE-STRUCTURED-LOCATION;VALUE=URI;X-ADDRESS=1320 Broadway\, Tacoma\, WA
 \, 98422\, United States;X-APPLE-RADIUS=100;X-TITLE=Creative Forces  Hotel
  Murano:geo:0,0
END:VEVENT
BEGIN:VTIMEZONE
TZID:America/Los_Angeles
X-LIC-LOCATION:America/Los_Angeles
BEGIN:DAYLIGHT
DTSTART:20170312T030000
TZOFFSETFROM:-0800
TZOFFSETTO:-0700
TZNAME:PDT
END:DAYLIGHT
END:VTIMEZONE
END:VCALENDAR