BEGIN:VCALENDAR
VERSION:2.0
PRODID:-//wp-events-plugin.com//7.2.3.1//EN
TZID:America/Los_Angeles
X-WR-TIMEZONE:America/Los_Angeles
BEGIN:VEVENT
UID:3361@experiencetacoma.com
DTSTART;TZID=America/Los_Angeles:20170916T120000
DTEND;TZID=America/Los_Angeles:20170916T235900
DTSTAMP:20170908T205046Z
URL:https://experiencetacoma.com/events/2nd-annual-south-tacoma-cider-fest
 /
SUMMARY:2nd Annual South Tacoma Cider Fest
DESCRIPTION:Here in Washington we're lucky to be the gobal leader in apple 
 production. On Sept 16th\, in observation of Washington Cider Week\, we'll
  be celebrating the tasty\, adult beverage aspect of all those apples\, Ha
 rd Cider. We'll be pouring 15+ awesome ciders from across this fine state 
 including\, Finnriver\, Snowdrift\, Tieton\, Whitewood\, Nashi Orchards\, 
 Carlton Cyderworks\, Tilted Tree\, Cockerll and many more.\nTo complement 
 all these great ciders\, we'll be shucking dozens of fresh oysters for you
 r food pairing pleasure!\nCome out and celebrate our Washinton Apple Herit
 age!\n\n
CATEGORIES:Tasty
LOCATION:Edison City Alehouse\, 5602 S Lawrence St\, Tacoma\, United States
X-APPLE-STRUCTURED-LOCATION;VALUE=URI;X-ADDRESS=5602 S Lawrence St\, Tacoma
 \, United States;X-APPLE-RADIUS=100;X-TITLE=Edison City Alehouse:geo:0,0
END:VEVENT
BEGIN:VTIMEZONE
TZID:America/Los_Angeles
X-LIC-LOCATION:America/Los_Angeles
BEGIN:DAYLIGHT
DTSTART:20170312T030000
TZOFFSETFROM:-0800
TZOFFSETTO:-0700
TZNAME:PDT
END:DAYLIGHT
END:VTIMEZONE
END:VCALENDAR