BEGIN:VCALENDAR
VERSION:2.0
PRODID:-//wp-events-plugin.com//7.2.3.1//EN
TZID:America/Los_Angeles
X-WR-TIMEZONE:America/Los_Angeles
BEGIN:VEVENT
UID:4155@experiencetacoma.com
DTSTART;TZID=America/Los_Angeles:20191214T100000
DTEND;TZID=America/Los_Angeles:20191214T170000
DTSTAMP:20191214T003104Z
URL:https://experiencetacoma.com/events/11th-annual-holiday-bazaar/
SUMMARY:11th Annual Holiday Bazaar
DESCRIPTION:B &amp\; G Sponsored Events invites you to join us in celebrati
 on of our "11th Annual Holiday Bazaar" at 602 N. Orchard St\, Tacoma WA on
  Saturday\, December 14\, 2019 from 10 AM ‘til 5 PM.\n\nBring your kids 
 and grandkids\, nieces and nephews to see Santa and get a gift. Children f
 rom newborn to 100+ years young are welcome to sit on Santa's lap and rece
 ive a free gift while supplies last.\n\nSanta loves animals\, too\, so bri
 ng your vaccinated pets along and get a picture of them with Santa. Santa 
 will be in attendance from 11:30 AM ‘til 4 PM. Don't forget to bring you
 r camera!!!\n\nSally and Jack Skellington plan to stop by during the day\,
  too. (Image\, please\, in case people don’t know who they are!)\n\nBrin
 g the whole family. It’s going to be a fun day for all\, with clever ven
 dors and goodies\, shopping\, Santa\, free gifts\, raffles\, The Brownie\,
  The Wrap Up Game... the list goes on.. Be our special Guest!!\n\nLook for
  the bright pink signs in the neighborhood that lead to our event. You’l
 l know you’ve arrived when you reach the supremely well-decorated corner
  at 6th &amp\; Orchard\, just across the street from Sonic.\n\nThere’s a
 mple free parking and admission is FREE for all shoppers and guests.\n\nBr
 ing a copy of this ad to the information table\, or mention where you saw 
 it on the internet\, and receive a FREE raffle ticket.
CATEGORIES:Free
LOCATION:First Christian Church of Tacoma\, 602 North Orchard Street\, Taco
 ma\, WA\, 98406\, United States
X-APPLE-STRUCTURED-LOCATION;VALUE=URI;X-ADDRESS=602 North Orchard Street\, 
 Tacoma\, WA\, 98406\, United States;X-APPLE-RADIUS=100;X-TITLE=First Chris
 tian Church of Tacoma:geo:0,0
END:VEVENT
BEGIN:VTIMEZONE
TZID:America/Los_Angeles
X-LIC-LOCATION:America/Los_Angeles
BEGIN:STANDARD
DTSTART:20191103T010000
TZOFFSETFROM:-0700
TZOFFSETTO:-0800
TZNAME:PST
END:STANDARD
END:VTIMEZONE
END:VCALENDAR